BEGIN:VCALENDAR
VERSION:2.0
PRODID:-//Fort Wayne Komets//komets.com//EN
CALSCALE:GREGORIAN
BEGIN:VEVENT
UID:https://komets.com/games/2026/04/24/central-division-semifinals-vs-indy
 -fuel-game-1
DTSTAMP:20260420T042409Z
SUMMARY:Central Division Semifinals vs Indy Fuel: Game 1
DTSTART;TZID=Canada/Eastern:20260424T193500
DTEND;TZID=Canada/Eastern:20260424T223500
DESCRIPTION:Indy Fuel at Fort Wayne Komets
LOCATION:Memorial Coliseum\, Fort Wayne\, Indiana
URL;VALUE=URI:https://komets.com/games/2026/04/24/central-division-semifina
 ls-vs-indy-fuel-game-1
END:VEVENT
END:VCALENDAR
