BEGIN:VCALENDAR
VERSION:2.0
PRODID:-//Fort Wayne Komets//komets.com//EN
CALSCALE:GREGORIAN
BEGIN:VEVENT
UID:https://komets.com/games/2026/04/25/central-division-semifinals-vs-indy
 -fuel-game-2
DTSTAMP:20260420T131231Z
SUMMARY:Central Division Semifinals vs. Indy Fuel: Game 2
DTSTART;TZID=Canada/Eastern:20260425T193500
DTEND;TZID=Canada/Eastern:20260425T223500
DESCRIPTION:Indy Fuel at Fort Wayne Komets
LOCATION:Memorial Coliseum\, Fort Wayne\, Indiana
URL;VALUE=URI:https://komets.com/games/2026/04/25/central-division-semifina
 ls-vs-indy-fuel-game-2
END:VEVENT
END:VCALENDAR
