BEGIN:VCALENDAR
VERSION:2.0
PRODID:-//Fort Wayne Komets//komets.com//EN
CALSCALE:GREGORIAN
BEGIN:VEVENT
UID:https://komets.com/games/2026/05/03/central-division-semifinals-vs-indy
 -fuel-game-5
DTSTAMP:20260420T062659Z
SUMMARY:Central Division Semifinals vs Indy Fuel: Game 5
DTSTART;TZID=Canada/Eastern:20260503T170500
DTEND;TZID=Canada/Eastern:20260503T200500
DESCRIPTION:Indy Fuel at Fort Wayne Komets
LOCATION:Memorial Coliseum\, Fort Wayne\, Indiana
URL;VALUE=URI:https://komets.com/games/2026/05/03/central-division-semifina
 ls-vs-indy-fuel-game-5
END:VEVENT
END:VCALENDAR
