BEGIN:VCALENDAR
VERSION:2.0
PRODID:-//Fort Wayne Komets//komets.com//EN
CALSCALE:GREGORIAN
BEGIN:VEVENT
UID:https://komets.com/games/2026/05/06/central-division-semifinals-vs-indy
 -fuel-game-7
DTSTAMP:20260420T063134Z
SUMMARY:Central Division Semifinals vs Indy Fuel: Game 7
DTSTART;TZID=Canada/Eastern:20260506T190500
DTEND;TZID=Canada/Eastern:20260506T220500
DESCRIPTION:Indy Fuel at Fort Wayne Komets
LOCATION:Memorial Coliseum\, Fort Wayne\, Indiana
URL;VALUE=URI:https://komets.com/games/2026/05/06/central-division-semifina
 ls-vs-indy-fuel-game-7
END:VEVENT
END:VCALENDAR
